BEGIN:VCALENDAR
VERSION:2.0
PRODID:-//wp-events-plugin.com//7.2.3.1//EN
BEGIN:VEVENT
UID:5@waldkindergarten-kuhsee.de
DTSTART;TZID=Europe/Berlin;VALUE=DATE:20260810
DTEND;TZID=Europe/Berlin;VALUE=DATE:20260901
DTSTAMP:20260319T142307Z
URL:https://www.waldkindergarten-kuhsee.de/events/sommerferien/
SUMMARY:Sommerferien
DESCRIPTION:Kindergarten Geschlossen
ATTACH;FMTTYPE=image/jpeg:https://www.waldkindergarten-kuhsee.de/wp-conten
 t/uploads/2024/01/threema-20231128-163437510.jpg-0-e1705323389749.jpeg
CATEGORIES:KiGa Intern
END:VEVENT
BEGIN:VTIMEZONE
TZID:Europe/Berlin
X-LIC-LOCATION:Europe/Berlin
BEGIN:DAYLIGHT
DTSTART:20260329T030000
TZOFFSETFROM:+0100
TZOFFSETTO:+0200
TZNAME:CEST
END:DAYLIGHT
END:VTIMEZONE
END:VCALENDAR